BEGIN:VCALENDAR
VERSION:2.0
PRODID:icalendar-ruby
CALSCALE:GREGORIAN
METHOD:PUBLISH
BEGIN:VEVENT
DTSTAMP:20260421T024551Z
UID:7-1911310@riversidebible.tithelysetup2.com
DTSTART:20261031T010000Z
DTEND:20261031T020000Z
CLASS:PUBLIC
CREATED:20260420T170030
DESCRIPTION:
LAST-MODIFIED:20260420T170030
LOCATION:at the Church
SUMMARY:Fellowship Bible Study
URL;VALUE=URI:https://riversidebible.tithelysetup2.com/events/fellowship-bi
 ble-study/2026-10-30
ATTACH;FILENAME=Open Bible.jpg;FMTTYPE=image/jpeg:https://dq5pwpg1q8ru0.clo
 udfront.net/2021/04/21/08/16/59/6d2b6f94-2231-4172-a4eb-7c0bdfcc3bf8/Open%
 20Bible.jpg
END:VEVENT
END:VCALENDAR
