BEGIN:VCALENDAR
VERSION:2.0
PRODID:icalendar-ruby
CALSCALE:GREGORIAN
METHOD:PUBLISH
BEGIN:VEVENT
DTSTAMP:20260422T145619Z
UID:6-1920290@riversidebible.tithelysetup2.com
DTSTART:20260831T010000Z
DTEND:20260831T020000Z
CLASS:PUBLIC
CREATED:20260422T070859
DESCRIPTION:
LAST-MODIFIED:20260422T070859
LOCATION:at the Church
SUMMARY:Study in Galations
URL;VALUE=URI:https://riversidebible.tithelysetup2.com/events/study-in-gala
 tions/2026-08-30
END:VEVENT
END:VCALENDAR
