BEGIN:VCALENDAR
VERSION:2.0
PRODID:icalendar-ruby
CALSCALE:GREGORIAN
METHOD:PUBLISH
BEGIN:VEVENT
DTSTAMP:20260422T214634Z
UID:6-1922614@riversidebible.tithelysetup2.com
DTSTART:20260928T010000Z
DTEND:20260928T020000Z
CLASS:PUBLIC
CREATED:20260422T125916
DESCRIPTION:
LAST-MODIFIED:20260422T125916
LOCATION:at the Church
SUMMARY:Study in Galations
URL;VALUE=URI:https://riversidebible.tithelysetup2.com/events/study-in-gala
 tions/2026-09-27
END:VEVENT
END:VCALENDAR
