BEGIN:VCALENDAR
VERSION:2.0
PRODID:icalendar-ruby
CALSCALE:GREGORIAN
METHOD:PUBLISH
BEGIN:VEVENT
DTSTAMP:20260422T232433Z
UID:6-1923775@riversidebible.tithelysetup2.com
DTSTART:20261005T010000Z
DTEND:20261005T020000Z
CLASS:PUBLIC
CREATED:20260422T155247
DESCRIPTION:
LAST-MODIFIED:20260422T155247
LOCATION:at the Church
SUMMARY:Study in Galations
URL;VALUE=URI:https://riversidebible.tithelysetup2.com/events/study-in-gala
 tions/2026-10-04
END:VEVENT
END:VCALENDAR
