BEGIN:VCALENDAR
VERSION:2.0
PRODID:icalendar-ruby
CALSCALE:GREGORIAN
METHOD:PUBLISH
BEGIN:VEVENT
DTSTAMP:20260423T042356Z
UID:6-1924938@riversidebible.tithelysetup2.com
DTSTART:20261026T010000Z
DTEND:20261026T020000Z
CLASS:PUBLIC
CREATED:20260422T184512
DESCRIPTION:
LAST-MODIFIED:20260422T184512
LOCATION:at the Church
SUMMARY:Study in Galations
URL;VALUE=URI:https://riversidebible.tithelysetup2.com/events/study-in-gala
 tions/2026-10-25
END:VEVENT
END:VCALENDAR
