BEGIN:VCALENDAR
VERSION:2.0
PRODID:icalendar-ruby
CALSCALE:GREGORIAN
METHOD:PUBLISH
BEGIN:VEVENT
DTSTAMP:20260423T061059Z
UID:6-1924939@riversidebible.tithelysetup2.com
DTSTART:20261102T020000Z
DTEND:20261102T030000Z
CLASS:PUBLIC
CREATED:20260422T184512
DESCRIPTION:
LAST-MODIFIED:20260422T184512
LOCATION:at the Church
SUMMARY:Study in Galations
URL;VALUE=URI:https://riversidebible.tithelysetup2.com/events/study-in-gala
 tions/2026-11-01
END:VEVENT
END:VCALENDAR
