BEGIN:VCALENDAR
VERSION:2.0
PRODID:icalendar-ruby
CALSCALE:GREGORIAN
METHOD:PUBLISH
BEGIN:VEVENT
DTSTAMP:20260420T185830Z
UID:5-1908405@riversidebible.tithelysetup2.com
DTSTART:20261004T170000Z
DTEND:20261004T180000Z
CLASS:PUBLIC
CREATED:20260420T114922
DESCRIPTION:
LAST-MODIFIED:20260420T114922
LOCATION:at the Church 
SUMMARY:Study in John 
URL;VALUE=URI:https://riversidebible.tithelysetup2.com/events/study-in-john
 /2026-10-04
ATTACH;FILENAME=Open Bible.jpg;FMTTYPE=image/jpeg:https://dq5pwpg1q8ru0.clo
 udfront.net/2021/04/19/07/05/05/965145ff-de00-4dfb-8513-f2612e1be800/Open%
 20Bible.jpg
END:VEVENT
END:VCALENDAR
