BEGIN:VCALENDAR
VERSION:2.0
PRODID:icalendar-ruby
CALSCALE:GREGORIAN
METHOD:PUBLISH
BEGIN:VEVENT
DTSTAMP:20260420T174222Z
UID:8-1908113@riversidebible.tithelysetup2.com
DTSTART:20260920T010000Z
DTEND:20260920T030000Z
CLASS:PUBLIC
CREATED:20260420T091512
DESCRIPTION:Youth gathers from the church along with their friends for fell
 owship and fun times.
LAST-MODIFIED:20260420T091512
LOCATION:Riverside Bible Church
SUMMARY:Youth Fun Night
URL;VALUE=URI:https://riversidebible.tithelysetup2.com/events/youth-fun-nig
 ht/2026-09-19
END:VEVENT
END:VCALENDAR
