BEGIN:VCALENDAR
VERSION:2.0
PRODID:icalendar-ruby
CALSCALE:GREGORIAN
METHOD:PUBLISH
BEGIN:VEVENT
DTSTAMP:20260420T210747Z
UID:8-1909275@riversidebible.tithelysetup2.com
DTSTART:20261004T010000Z
DTEND:20261004T030000Z
CLASS:PUBLIC
CREATED:20260420T114924
DESCRIPTION:Youth gathers from the church along with their friends for fell
 owship and fun times.
LAST-MODIFIED:20260420T114924
LOCATION:Riverside Bible Church
SUMMARY:Youth Fun Night
URL;VALUE=URI:https://riversidebible.tithelysetup2.com/events/youth-fun-nig
 ht/2026-10-03
END:VEVENT
END:VCALENDAR
