BEGIN:VCALENDAR
VERSION:2.0
PRODID:icalendar-ruby
CALSCALE:GREGORIAN
METHOD:PUBLISH
BEGIN:VEVENT
DTSTAMP:20260420T225754Z
UID:8-1910436@riversidebible.tithelysetup2.com
DTSTART:20261011T010000Z
DTEND:20261011T030000Z
CLASS:PUBLIC
CREATED:20260420T142532
DESCRIPTION:Youth gathers from the church along with their friends for fell
 owship and fun times.
LAST-MODIFIED:20260420T142532
LOCATION:Riverside Bible Church
SUMMARY:Youth Fun Night
URL;VALUE=URI:https://riversidebible.tithelysetup2.com/events/youth-fun-nig
 ht/2026-10-10
END:VEVENT
END:VCALENDAR
