BEGIN:VCALENDAR
VERSION:2.0
PRODID:icalendar-ruby
CALSCALE:GREGORIAN
METHOD:PUBLISH
BEGIN:VEVENT
DTSTAMP:20260421T003133Z
UID:8-1911597@riversidebible.tithelysetup2.com
DTSTART:20261018T010000Z
DTEND:20261018T030000Z
CLASS:PUBLIC
CREATED:20260420T170031
DESCRIPTION:Youth gathers from the church along with their friends for fell
 owship and fun times.
LAST-MODIFIED:20260420T170031
LOCATION:Riverside Bible Church
SUMMARY:Youth Fun Night
URL;VALUE=URI:https://riversidebible.tithelysetup2.com/events/youth-fun-nig
 ht/2026-10-17
END:VEVENT
END:VCALENDAR
